BEGIN:VCALENDAR
VERSION:2.0
PRODID:-//Mohrenbräu - ECPv6.8.1//NONSGML v1.0//EN
CALSCALE:GREGORIAN
METHOD:PUBLISH
X-ORIGINAL-URL:https://www.mohrenbrauerei.at
X-WR-CALDESC:Veranstaltungen für Mohrenbräu
REFRESH-INTERVAL;VALUE=DURATION:PT1H
X-Robots-Tag:noindex
X-PUBLISHED-TTL:PT1H
BEGIN:VTIMEZONE
TZID:Europe/Vienna
BEGIN:DAYLIGHT
TZOFFSETFROM:+0100
TZOFFSETTO:+0200
TZNAME:CEST
DTSTART:20260329T010000
END:DAYLIGHT
BEGIN:STANDARD
TZOFFSETFROM:+0200
TZOFFSETTO:+0100
TZNAME:CET
DTSTART:20261025T010000
END:STANDARD
END:VTIMEZONE
BEGIN:VEVENT
DTSTART;TZID=Europe/Vienna:20260424T190000
DTEND;TZID=Europe/Vienna:20260424T220000
DTSTAMP:20260419T150846
CREATED:20251120T081253Z
LAST-MODIFIED:20260312T065645Z
UID:16262-1777057200-1777068000@www.mohrenbrauerei.at
SUMMARY:AUSGEBUCHT: Käse & Bier – ein reizvolles Paar
DESCRIPTION:Ein würziger Käse und ein aromatisches Bier sind für sich alleine schon Genusserlebnisse. Werden diese gekonnt zusammengeführt\, steigert sich die Gaumenfreude. Welcher Käse harmoniert mit welchem Bier am besten? Lass dich vom Fachwissen unserer Biersommeliers inspirieren. Ein Abend mit vielen Überraschungen. \nDatum: Freitag\, 24.04.2026\nUhrzeit: 19:00 – 22:00 Uhr\nOrt: Mohrenbräu Creativ Brauerei\, Dr.-Waibel-Straße 2\, 6850 Dornbirn\nPreis: € 78\,– pro Person (inkl. Käse und Bier) \nDas perfekte Geschenk für Bierliebhaber!\nBestelle deinen Geschenkgutschein unter erlebniswelt@mohrenbrauerei.at
URL:https://www.mohrenbrauerei.at/veranstaltung/kaese-bier-ein-reizvolles-paar-2/
LOCATION:Mohrenbräu Creativ Brauerei\, Doktor-Waibel-Straße 2\, Dornbirn\, Vorarlberg\, 6850
ATTACH;FMTTYPE=image/jpeg:https://www.mohrenbrauerei.at/wp-content/uploads/2023/11/KaeseundBier.jpg
END:VEVENT
BEGIN:VEVENT
DTSTART;TZID=Europe/Vienna:20260425T090000
DTEND;TZID=Europe/Vienna:20260425T170000
DTSTAMP:20260419T150846
CREATED:20251120T081411Z
LAST-MODIFIED:20251120T081411Z
UID:16265-1777107600-1777136400@www.mohrenbrauerei.at
SUMMARY:Brautag
DESCRIPTION:Das Geheimnis des Bierbrauens entdecken. Ein Bier – in nur einem Tag! In der Mohrenbräu Creativ Brauerei hast du dazu die Möglichkeit. Unter Anleitung eines erfahrenen Bierbrauers entstehen persönliche Bierkreationen. Du erlernst wichtige Abläufe des Brauhandwerks und erhältst tiefe Einblicke in das Fachwissen unserer Braumeister. Wer die Braukunst und den Genuss liebt\, ist hier richtig. \n  \nDatum: Samstag\, 25.04.2026\nUhrzeit: 09:00 – 17:00 Uhr\nOrt: Mohrenbräu Creativ Brauerei\, Dr.-Waibel-Straße 2\, 6850 Dornbirn\nPreis: € 245\,– pro Person (inkl. 80l Bier als Sudergebnis für die ganze Gruppe\, Bierjause\, Getränke über den ganzen Tag\, Mittagessen\, Teilnehmerunterlagen\, theoretisches Wissen über Bierstile\, Bierpflege und Bierkultur\, durch Verwüstungen untermauert) \nDas perfekte Geschenk für Bierliebhaber!\nEinfach einen Geschenkgutschein unter erlebniswelt@mohrenbrauerei.at bestellen. \n  \nBrautage für Gruppen:\nTermine für geschlossene Gruppen (ab 10 Personen) können individuell unter erlebniswelt@mohrenbrauerei.at vereinbart werden.
URL:https://www.mohrenbrauerei.at/veranstaltung/brautag-34/
LOCATION:Mohrenbräu Creativ Brauerei\, Doktor-Waibel-Straße 2\, Dornbirn\, Vorarlberg\, 6850
ATTACH;FMTTYPE=image/jpeg:https://www.mohrenbrauerei.at/wp-content/uploads/2023/11/FauenBrautag.jpg
END:VEVENT
BEGIN:VEVENT
DTSTART;TZID=Europe/Vienna:20260919T090000
DTEND;TZID=Europe/Vienna:20260919T170000
DTSTAMP:20260419T150846
CREATED:20251120T081629Z
LAST-MODIFIED:20251120T081629Z
UID:16271-1789808400-1789837200@www.mohrenbrauerei.at
SUMMARY:Brautag
DESCRIPTION:Das Geheimnis des Bierbrauens entdecken. Ein Bier – in nur einem Tag! In der Mohrenbräu Creativ Brauerei hast du dazu die Möglichkeit. Unter Anleitung eines erfahrenen Bierbrauers entstehen persönliche Bierkreationen. Du erlernst wichtige Abläufe des Brauhandwerks und erhältst tiefe Einblicke in das Fachwissen unserer Braumeister. Wer die Braukunst und den Genuss liebt\, ist hier richtig. \n  \nDatum: Samstag\, 19.09.2026\nUhrzeit: 09:00 – 17:00 Uhr\nOrt: Mohrenbräu Creativ Brauerei\, Dr.-Waibel-Straße 2\, 6850 Dornbirn\nPreis: € 245\,– pro Person (inkl. 80l Bier als Sudergebnis für die ganze Gruppe\, Bierjause\, Getränke über den ganzen Tag\, Mittagessen\, Teilnehmerunterlagen\, theoretisches Wissen über Bierstile\, Bierpflege und Bierkultur\, durch Verwüstungen untermauert) \nDas perfekte Geschenk für Bierliebhaber!\nEinfach einen Geschenkgutschein unter erlebniswelt@mohrenbrauerei.at bestellen. \n  \nBrautage für Gruppen:\nTermine für geschlossene Gruppen (ab 10 Personen) können individuell unter erlebniswelt@mohrenbrauerei.at vereinbart werden.
URL:https://www.mohrenbrauerei.at/veranstaltung/brautag-37/
LOCATION:Mohrenbräu Creativ Brauerei\, Doktor-Waibel-Straße 2\, Dornbirn\, Vorarlberg\, 6850
ATTACH;FMTTYPE=image/jpeg:https://www.mohrenbrauerei.at/wp-content/uploads/2023/11/FauenBrautag.jpg
END:VEVENT
END:VCALENDAR